BEGIN:VCALENDAR
VERSION:2.0
PRODID:-//VC 73 Freudenberg - ECPv6.15.20//NONSGML v1.0//EN
CALSCALE:GREGORIAN
METHOD:PUBLISH
X-ORIGINAL-URL:https://vc73freudenberg.de
X-WR-CALDESC:Veranstaltungen für VC 73 Freudenberg
REFRESH-INTERVAL;VALUE=DURATION:PT1H
X-Robots-Tag:noindex
X-PUBLISHED-TTL:PT1H
BEGIN:VTIMEZONE
TZID:Europe/Berlin
BEGIN:DAYLIGHT
TZOFFSETFROM:+0100
TZOFFSETTO:+0200
TZNAME:CEST
DTSTART:20210328T010000
END:DAYLIGHT
BEGIN:STANDARD
TZOFFSETFROM:+0200
TZOFFSETTO:+0100
TZNAME:CET
DTSTART:20211031T010000
END:STANDARD
BEGIN:DAYLIGHT
TZOFFSETFROM:+0100
TZOFFSETTO:+0200
TZNAME:CEST
DTSTART:20220327T010000
END:DAYLIGHT
BEGIN:STANDARD
TZOFFSETFROM:+0200
TZOFFSETTO:+0100
TZNAME:CET
DTSTART:20221030T010000
END:STANDARD
BEGIN:DAYLIGHT
TZOFFSETFROM:+0100
TZOFFSETTO:+0200
TZNAME:CEST
DTSTART:20230326T010000
END:DAYLIGHT
BEGIN:STANDARD
TZOFFSETFROM:+0200
TZOFFSETTO:+0100
TZNAME:CET
DTSTART:20231029T010000
END:STANDARD
BEGIN:DAYLIGHT
TZOFFSETFROM:+0100
TZOFFSETTO:+0200
TZNAME:CEST
DTSTART:20240331T010000
END:DAYLIGHT
BEGIN:STANDARD
TZOFFSETFROM:+0200
TZOFFSETTO:+0100
TZNAME:CET
DTSTART:20241027T010000
END:STANDARD
BEGIN:DAYLIGHT
TZOFFSETFROM:+0100
TZOFFSETTO:+0200
TZNAME:CEST
DTSTART:20250330T010000
END:DAYLIGHT
BEGIN:STANDARD
TZOFFSETFROM:+0200
TZOFFSETTO:+0100
TZNAME:CET
DTSTART:20251026T010000
END:STANDARD
BEGIN:DAYLIGHT
TZOFFSETFROM:+0100
TZOFFSETTO:+0200
TZNAME:CEST
DTSTART:20260329T010000
END:DAYLIGHT
BEGIN:STANDARD
TZOFFSETFROM:+0200
TZOFFSETTO:+0100
TZNAME:CET
DTSTART:20261025T010000
END:STANDARD
END:VTIMEZONE
BEGIN:VEVENT
DTSTART;TZID=Europe/Berlin:20250329T193000
DTEND;TZID=Europe/Berlin:20250329T210000
DTSTAMP:20260420T134515
CREATED:20240923T184837Z
LAST-MODIFIED:20240923T184837Z
UID:17810-1743276600-1743282000@vc73freudenberg.de
SUMMARY:M1 - TPSV Bielefeld
DESCRIPTION:
URL:https://vc73freudenberg.de/event/m1-tpsv-bielefeld
LOCATION:Schulzentrum Eicher Seite\, Hermann-Vomhof-Straße 9\, Freudenberg\, NRW\, 57258\, Deutschland
CATEGORIES:Herren 1
END:VEVENT
BEGIN:VEVENT
DTSTART;TZID=Europe/Berlin:20250222T163000
DTEND;TZID=Europe/Berlin:20250222T210000
DTSTAMP:20260420T134515
CREATED:20240923T184746Z
LAST-MODIFIED:20240923T184746Z
UID:17808-1740241800-1740258000@vc73freudenberg.de
SUMMARY:M1 - Humann Essen III
DESCRIPTION:
URL:https://vc73freudenberg.de/event/m1-humann-essen-iii
LOCATION:Schulzentrum Eicher Seite\, Hermann-Vomhof-Straße 9\, Freudenberg\, NRW\, 57258\, Deutschland
CATEGORIES:Herren 1
END:VEVENT
BEGIN:VEVENT
DTSTART;TZID=Europe/Berlin:20250118T193000
DTEND;TZID=Europe/Berlin:20250118T210000
DTSTAMP:20260420T134515
CREATED:20240923T184653Z
LAST-MODIFIED:20240923T184653Z
UID:17806-1737228600-1737234000@vc73freudenberg.de
SUMMARY:M1 - Rhein-Sieg Volleys
DESCRIPTION:
URL:https://vc73freudenberg.de/event/m1-rhein-sieg-volleys-2
LOCATION:Schulzentrum Eicher Seite\, Hermann-Vomhof-Straße 9\, Freudenberg\, NRW\, 57258\, Deutschland
CATEGORIES:Herren 1
END:VEVENT
BEGIN:VEVENT
DTSTART;TZID=Europe/Berlin:20241215T160000
DTEND;TZID=Europe/Berlin:20241215T183000
DTSTAMP:20260420T134515
CREATED:20240923T184557Z
LAST-MODIFIED:20240923T184557Z
UID:17804-1734278400-1734287400@vc73freudenberg.de
SUMMARY:M1 - TVA Hürth
DESCRIPTION:
URL:https://vc73freudenberg.de/event/m1-tva-huerth-2
LOCATION:Schulzentrum Eicher Seite\, Hermann-Vomhof-Straße 9\, Freudenberg\, NRW\, 57258\, Deutschland
CATEGORIES:Herren 1
END:VEVENT
BEGIN:VEVENT
DTSTART;TZID=Europe/Berlin:20241207T193000
DTEND;TZID=Europe/Berlin:20241207T210000
DTSTAMP:20260420T134515
CREATED:20240923T184507Z
LAST-MODIFIED:20240923T184507Z
UID:17802-1733599800-1733605200@vc73freudenberg.de
SUMMARY:M1 - PTSV Aachen II
DESCRIPTION:
URL:https://vc73freudenberg.de/event/m1-ptsv-aachen-ii-2
LOCATION:Schulzentrum Eicher Seite\, Hermann-Vomhof-Straße 9\, Freudenberg\, NRW\, 57258\, Deutschland
CATEGORIES:Herren 1
END:VEVENT
BEGIN:VEVENT
DTSTART;TZID=Europe/Berlin:20241116T193000
DTEND;TZID=Europe/Berlin:20241116T210000
DTSTAMP:20260420T134515
CREATED:20240923T184415Z
LAST-MODIFIED:20240923T184415Z
UID:17800-1731785400-1731790800@vc73freudenberg.de
SUMMARY:M1 - Kevelaerer SV
DESCRIPTION:
URL:https://vc73freudenberg.de/event/m1-kevelaerer-sv
LOCATION:Schulzentrum Eicher Seite\, Hermann-Vomhof-Straße 9\, Freudenberg\, NRW\, 57258\, Deutschland
CATEGORIES:Herren 1
END:VEVENT
BEGIN:VEVENT
DTSTART;TZID=Europe/Berlin:20241109T193000
DTEND;TZID=Europe/Berlin:20241109T210000
DTSTAMP:20260420T134515
CREATED:20240923T184334Z
LAST-MODIFIED:20240923T184334Z
UID:17798-1731180600-1731186000@vc73freudenberg.de
SUMMARY:M1 - TSC Gievenbeck II
DESCRIPTION:
URL:https://vc73freudenberg.de/event/m1-tsc-gievenbeck-ii-2
LOCATION:Schulzentrum Eicher Seite\, Hermann-Vomhof-Straße 9\, Freudenberg\, NRW\, 57258\, Deutschland
CATEGORIES:Herren 1
END:VEVENT
BEGIN:VEVENT
DTSTART;TZID=Europe/Berlin:20241026T193000
DTEND;TZID=Europe/Berlin:20241026T210000
DTSTAMP:20260420T134515
CREATED:20240923T184246Z
LAST-MODIFIED:20240923T184246Z
UID:17796-1729971000-1729976400@vc73freudenberg.de
SUMMARY:M1 - MTV Köln
DESCRIPTION:
URL:https://vc73freudenberg.de/event/m1-mtv-koeln-2
LOCATION:Schulzentrum Eicher Seite\, Hermann-Vomhof-Straße 9\, Freudenberg\, NRW\, 57258\, Deutschland
CATEGORIES:Herren 1
END:VEVENT
BEGIN:VEVENT
DTSTART;TZID=Europe/Berlin:20241019T193000
DTEND;TZID=Europe/Berlin:20241019T210000
DTSTAMP:20260420T134515
CREATED:20240923T184203Z
LAST-MODIFIED:20240923T184203Z
UID:17794-1729366200-1729371600@vc73freudenberg.de
SUMMARY:M1 - SSF Bonn
DESCRIPTION:
URL:https://vc73freudenberg.de/event/m1-ssf-bonn
LOCATION:Schulzentrum Eicher Seite\, Hermann-Vomhof-Straße 9\, Freudenberg\, NRW\, 57258\, Deutschland
CATEGORIES:Herren 1
END:VEVENT
BEGIN:VEVENT
DTSTART;TZID=Europe/Berlin:20241012T193000
DTEND;TZID=Europe/Berlin:20241012T210000
DTSTAMP:20260420T134515
CREATED:20240923T184041Z
LAST-MODIFIED:20240923T184053Z
UID:17791-1728761400-1728766800@vc73freudenberg.de
SUMMARY:M1 - FC Augustdorf
DESCRIPTION:
URL:https://vc73freudenberg.de/event/m1-tc-augustdorf
LOCATION:Schulzentrum Eicher Seite\, Hermann-Vomhof-Straße 9\, Freudenberg\, NRW\, 57258\, Deutschland
CATEGORIES:Herren 1
END:VEVENT
BEGIN:VEVENT
DTSTART;TZID=Europe/Berlin:20240929T160000
DTEND;TZID=Europe/Berlin:20240929T180000
DTSTAMP:20260420T134515
CREATED:20240923T183943Z
LAST-MODIFIED:20240923T183943Z
UID:17789-1727625600-1727632800@vc73freudenberg.de
SUMMARY:M1 - TV Hörde
DESCRIPTION:
URL:https://vc73freudenberg.de/event/m1-tv-hoerde-3
LOCATION:Schulzentrum Eicher Seite\, Hermann-Vomhof-Straße 9\, Freudenberg\, NRW\, 57258\, Deutschland
CATEGORIES:Herren 1
END:VEVENT
BEGIN:VEVENT
DTSTART;TZID=Europe/Berlin:20240323T160000
DTEND;TZID=Europe/Berlin:20240323T180000
DTSTAMP:20260420T134515
CREATED:20230913T210832Z
LAST-MODIFIED:20230913T210832Z
UID:17704-1711209600-1711216800@vc73freudenberg.de
SUMMARY:M1 - SG Coesfeld 06
DESCRIPTION:
URL:https://vc73freudenberg.de/event/m1-sg-coesfeld-06
LOCATION:Schulzentrum Eicher Seite\, Hermann-Vomhof-Straße 9\, Freudenberg\, NRW\, 57258\, Deutschland
CATEGORIES:Herren 1
END:VEVENT
BEGIN:VEVENT
DTSTART;TZID=Europe/Berlin:20240310T160000
DTEND;TZID=Europe/Berlin:20240310T180000
DTSTAMP:20260420T134515
CREATED:20230913T210507Z
LAST-MODIFIED:20240209T201003Z
UID:17698-1710086400-1710093600@vc73freudenberg.de
SUMMARY:M1 - MTV Köln
DESCRIPTION:
URL:https://vc73freudenberg.de/event/m1-mtv-koeln
LOCATION:Schulzentrum Eicher Seite\, Hermann-Vomhof-Straße 9\, Freudenberg\, NRW\, 57258\, Deutschland
CATEGORIES:Herren 1
END:VEVENT
BEGIN:VEVENT
DTSTART;TZID=Europe/Berlin:20240218T160000
DTEND;TZID=Europe/Berlin:20240218T180000
DTSTAMP:20260420T134515
CREATED:20230913T210357Z
LAST-MODIFIED:20240209T201217Z
UID:17696-1708272000-1708279200@vc73freudenberg.de
SUMMARY:M1 - FCJ Köln II
DESCRIPTION:
URL:https://vc73freudenberg.de/event/m1-fcj-koeln-ii
LOCATION:Schulzentrum Eicher Seite\, Hermann-Vomhof-Straße 9\, Freudenberg\, NRW\, 57258\, Deutschland
CATEGORIES:Herren 1
END:VEVENT
BEGIN:VEVENT
DTSTART;TZID=Europe/Berlin:20240217T193000
DTEND;TZID=Europe/Berlin:20240217T213000
DTSTAMP:20260420T134515
CREATED:20230913T210736Z
LAST-MODIFIED:20230913T210736Z
UID:17702-1708198200-1708205400@vc73freudenberg.de
SUMMARY:M1 - Telekom Post SV Bielefeld
DESCRIPTION:
URL:https://vc73freudenberg.de/event/m1-telekom-post-sv-bielefeld-3
LOCATION:Schulzentrum Eicher Seite\, Hermann-Vomhof-Straße 9\, Freudenberg\, NRW\, 57258\, Deutschland
CATEGORIES:Herren 1
END:VEVENT
BEGIN:VEVENT
DTSTART;TZID=Europe/Berlin:20240210T193000
DTEND;TZID=Europe/Berlin:20240210T213000
DTSTAMP:20260420T134515
CREATED:20230913T210655Z
LAST-MODIFIED:20230913T210655Z
UID:17700-1707593400-1707600600@vc73freudenberg.de
SUMMARY:M1 -  Rhein-Sieg Volleys Much & Buisdorf
DESCRIPTION:
URL:https://vc73freudenberg.de/event/m1-rhein-sieg-volleys-much-buisdorf-2
LOCATION:Schulzentrum Eicher Seite\, Hermann-Vomhof-Straße 9\, Freudenberg\, NRW\, 57258\, Deutschland
CATEGORIES:Herren 1
END:VEVENT
BEGIN:VEVENT
DTSTART;TZID=Europe/Berlin:20231217T160000
DTEND;TZID=Europe/Berlin:20231217T180000
DTSTAMP:20260420T134515
CREATED:20230913T210305Z
LAST-MODIFIED:20230913T210534Z
UID:17694-1702828800-1702836000@vc73freudenberg.de
SUMMARY:M1 - TSC Gievenbeck II
DESCRIPTION:
URL:https://vc73freudenberg.de/event/m1-tsc-gievenbeck-ii
LOCATION:Schulzentrum Eicher Seite\, Hermann-Vomhof-Straße 9\, Freudenberg\, NRW\, 57258\, Deutschland
CATEGORIES:Herren 1
END:VEVENT
BEGIN:VEVENT
DTSTART;TZID=Europe/Berlin:20231202T193000
DTEND;TZID=Europe/Berlin:20231202T213000
DTSTAMP:20260420T134515
CREATED:20230913T210218Z
LAST-MODIFIED:20230913T210538Z
UID:17692-1701545400-1701552600@vc73freudenberg.de
SUMMARY:M1 - Moerser SC
DESCRIPTION:
URL:https://vc73freudenberg.de/event/m1-moerser-sc
LOCATION:Schulzentrum Eicher Seite\, Hermann-Vomhof-Straße 9\, Freudenberg\, NRW\, 57258\, Deutschland
CATEGORIES:Herren 1
END:VEVENT
BEGIN:VEVENT
DTSTART;TZID=Europe/Berlin:20231125T193000
DTEND;TZID=Europe/Berlin:20231125T213000
DTSTAMP:20260420T134515
CREATED:20230913T210108Z
LAST-MODIFIED:20230913T210545Z
UID:17690-1700940600-1700947800@vc73freudenberg.de
SUMMARY:M1 - TuS Iserlohn 1846
DESCRIPTION:
URL:https://vc73freudenberg.de/event/m1-tus-iserlohn-1846-2
LOCATION:Schulzentrum Eicher Seite\, Hermann-Vomhof-Straße 9\, Freudenberg\, NRW\, 57258\, Deutschland
CATEGORIES:Herren 1
END:VEVENT
BEGIN:VEVENT
DTSTART;TZID=Europe/Berlin:20231118T193000
DTEND;TZID=Europe/Berlin:20231118T213000
DTSTAMP:20260420T134515
CREATED:20230913T210011Z
LAST-MODIFIED:20230913T210549Z
UID:17688-1700335800-1700343000@vc73freudenberg.de
SUMMARY:M1 - SC Halle
DESCRIPTION:
URL:https://vc73freudenberg.de/event/m1-sc-halle
LOCATION:Schulzentrum Eicher Seite\, Hermann-Vomhof-Straße 9\, Freudenberg\, NRW\, 57258\, Deutschland
CATEGORIES:Herren 1
END:VEVENT
BEGIN:VEVENT
DTSTART;TZID=Europe/Berlin:20231014T193000
DTEND;TZID=Europe/Berlin:20231014T213000
DTSTAMP:20260420T134515
CREATED:20230913T205843Z
LAST-MODIFIED:20230913T210552Z
UID:17685-1697311800-1697319000@vc73freudenberg.de
SUMMARY:M1 - Meckenheimer SV
DESCRIPTION:
URL:https://vc73freudenberg.de/event/m1-meckenheimer-sv
LOCATION:Schulzentrum Eicher Seite\, Hermann-Vomhof-Straße 9\, Freudenberg\, NRW\, 57258\, Deutschland
CATEGORIES:Herren 1
END:VEVENT
BEGIN:VEVENT
DTSTART;TZID=Europe/Berlin:20230930T193000
DTEND;TZID=Europe/Berlin:20230930T213000
DTSTAMP:20260420T134515
CREATED:20230913T205746Z
LAST-MODIFIED:20230913T210556Z
UID:17683-1696102200-1696109400@vc73freudenberg.de
SUMMARY:M1- VV Humann Essen III
DESCRIPTION:
URL:https://vc73freudenberg.de/event/m1-essen-iii
LOCATION:Schulzentrum Eicher Seite\, Hermann-Vomhof-Straße 9\, Freudenberg\, NRW\, 57258\, Deutschland
CATEGORIES:Herren 1
END:VEVENT
BEGIN:VEVENT
DTSTART;TZID=Europe/Berlin:20221217T193000
DTEND;TZID=Europe/Berlin:20221217T213000
DTSTAMP:20260420T134515
CREATED:20220901T213830Z
LAST-MODIFIED:20220901T213830Z
UID:17589-1671305400-1671312600@vc73freudenberg.de
SUMMARY:M1 - TuS Iserlohn 1846
DESCRIPTION:
URL:https://vc73freudenberg.de/event/m1-tus-iserlohn-1846
LOCATION:Schulzentrum Eicher Seite\, Hermann-Vomhof-Straße 9\, Freudenberg\, NRW\, 57258\, Deutschland
CATEGORIES:Herren 1
END:VEVENT
BEGIN:VEVENT
DTSTART;TZID=Europe/Berlin:20221126T193000
DTEND;TZID=Europe/Berlin:20221126T213000
DTSTAMP:20260420T134515
CREATED:20220901T213750Z
LAST-MODIFIED:20220901T213750Z
UID:17587-1669491000-1669498200@vc73freudenberg.de
SUMMARY:M1 - PTSV Aachen II
DESCRIPTION:
URL:https://vc73freudenberg.de/event/m1-ptsv-aachen-ii
LOCATION:Schulzentrum Eicher Seite\, Hermann-Vomhof-Straße 9\, Freudenberg\, NRW\, 57258\, Deutschland
CATEGORIES:Herren 1
END:VEVENT
BEGIN:VEVENT
DTSTART;TZID=Europe/Berlin:20221112T193000
DTEND;TZID=Europe/Berlin:20221112T213000
DTSTAMP:20260420T134515
CREATED:20220901T213627Z
LAST-MODIFIED:20220901T213627Z
UID:17585-1668281400-1668288600@vc73freudenberg.de
SUMMARY:M1 - ART Düsseldorf
DESCRIPTION:
URL:https://vc73freudenberg.de/event/m1-art-duesseldorf-2
LOCATION:Schulzentrum Eicher Seite\, Hermann-Vomhof-Straße 9\, Freudenberg\, NRW\, 57258\, Deutschland
CATEGORIES:Herren 1
END:VEVENT
BEGIN:VEVENT
DTSTART;TZID=Europe/Berlin:20221023T170000
DTEND;TZID=Europe/Berlin:20221023T190000
DTSTAMP:20260420T134515
CREATED:20220901T213542Z
LAST-MODIFIED:20220901T213542Z
UID:17583-1666544400-1666551600@vc73freudenberg.de
SUMMARY:M1 - TVA Hürth Volleyball
DESCRIPTION:
URL:https://vc73freudenberg.de/event/m1-tva-huerth-volleyball-2
LOCATION:Schulzentrum Eicher Seite\, Hermann-Vomhof-Straße 9\, Freudenberg\, NRW\, 57258\, Deutschland
CATEGORIES:Herren 1
END:VEVENT
BEGIN:VEVENT
DTSTART;TZID=Europe/Berlin:20221008T193000
DTEND;TZID=Europe/Berlin:20221008T213000
DTSTAMP:20260420T134515
CREATED:20220901T213440Z
LAST-MODIFIED:20220901T213440Z
UID:17581-1665257400-1665264600@vc73freudenberg.de
SUMMARY:M1 - Telekom Post SV Bielefeld
DESCRIPTION:
URL:https://vc73freudenberg.de/event/m1-telekom-post-sv-bielefeld-2
LOCATION:Schulzentrum Eicher Seite\, Hermann-Vomhof-Straße 9\, Freudenberg\, NRW\, 57258\, Deutschland
CATEGORIES:Herren 1
END:VEVENT
BEGIN:VEVENT
DTSTART;TZID=Europe/Berlin:20220924T193000
DTEND;TZID=Europe/Berlin:20220924T213000
DTSTAMP:20260420T134515
CREATED:20220901T213348Z
LAST-MODIFIED:20220901T213348Z
UID:17579-1664047800-1664055000@vc73freudenberg.de
SUMMARY:M1 - SSF Fortuna Bonn
DESCRIPTION:
URL:https://vc73freudenberg.de/event/m1-ssf-fortuna-bonn
LOCATION:Schulzentrum Eicher Seite\, Hermann-Vomhof-Straße 9\, Freudenberg\, NRW\, 57258\, Deutschland
CATEGORIES:Herren 1
END:VEVENT
BEGIN:VEVENT
DTSTART;TZID=Europe/Berlin:20220910T193000
DTEND;TZID=Europe/Berlin:20220910T213000
DTSTAMP:20260420T134515
CREATED:20220901T213218Z
LAST-MODIFIED:20220901T213218Z
UID:17577-1662838200-1662845400@vc73freudenberg.de
SUMMARY:M1 - TV Hörde II
DESCRIPTION:
URL:https://vc73freudenberg.de/event/m1-tv-hoerde-ii-2
LOCATION:Schulzentrum Eicher Seite\, Hermann-Vomhof-Straße 9\, Freudenberg\, NRW\, 57258\, Deutschland
CATEGORIES:Herren 1
END:VEVENT
BEGIN:VEVENT
DTSTART;TZID=Europe/Berlin:20220423T193000
DTEND;TZID=Europe/Berlin:20220423T210000
DTSTAMP:20260420T134515
CREATED:20210912T200335Z
LAST-MODIFIED:20220218T172144Z
UID:16212-1650742200-1650747600@vc73freudenberg.de
SUMMARY:M1 - Tecklenburger Land Volleys
DESCRIPTION:
URL:https://vc73freudenberg.de/event/m1-tecklenburger-land-volleys-2
LOCATION:Schulzentrum Eicher Seite\, Hermann-Vomhof-Straße 9\, Freudenberg\, NRW\, 57258\, Deutschland
CATEGORIES:Herren 1
END:VEVENT
END:VCALENDAR